BEGIN:VCALENDAR
VERSION:2.0
PRODID:spatie/icalendar-generator
DESCRIPTION:Events from Parroquia Santo Cristo del Olivar
X-WR-CALDESC:Events from Parroquia Santo Cristo del Olivar
REFRESH-INTERVAL;VALUE=DURATION:PT1440M
X-PUBLISHED-TTL:PT1440M
BEGIN:VTIMEZONE
TZID:Etc/GMT+0
BEGIN:STANDARD
DTSTART:20240812T183000Z
TZOFFSETFROM:+0000
TZOFFSETTO:+0000
END:STANDARD
END:VTIMEZONE
BEGIN:VTIMEZONE
TZID:UTC
BEGIN:STANDARD
DTSTART:20250725T163835Z
TZOFFSETFROM:+0000
TZOFFSETTO:+0000
END:STANDARD
END:VTIMEZONE
BEGIN:VEVENT
UID:274-262
DTSTAMP:20260421T163835Z
SUMMARY:Coral Ars Musicae
LOCATION:
ORGANIZER;CN=admin:MAILTO:incidencias@chipsolutions.es
DTSTART;TZID=Etc/GMT+0:20250509T183000
DTEND;TZID=Etc/GMT+0:20250509T193000
X-ALT-DESC;FMTTYPE=TEXT/HTML:Actuación de la Coral Ars Musicae
CATEGORIES:General
URL;VALUE=URI:https://www.parroquiaolivar.com/mc-events/coral-ars-musicae/
METHOD:PUBLISH
END:VEVENT
END:VCALENDAR