BEGIN:VCALENDAR
VERSION:2.0
PRODID:spatie/icalendar-generator
DESCRIPTION:Events from Parroquia Santo Cristo del Olivar
X-WR-CALDESC:Events from Parroquia Santo Cristo del Olivar
REFRESH-INTERVAL;VALUE=DURATION:PT1440M
X-PUBLISHED-TTL:PT1440M
BEGIN:VTIMEZONE
TZID:Etc/GMT+0
BEGIN:STANDARD
DTSTART:20250107T200000Z
TZOFFSETFROM:+0000
TZOFFSETTO:+0000
END:STANDARD
END:VTIMEZONE
BEGIN:VTIMEZONE
TZID:UTC
BEGIN:STANDARD
DTSTART:20250726T022551Z
TZOFFSETFROM:+0000
TZOFFSETTO:+0000
END:STANDARD
END:VTIMEZONE
BEGIN:VEVENT
UID:286-274
DTSTAMP:20260422T022551Z
SUMMARY:TRIDUO EN HONOR A NUESTRA SEÑORA DEL ROSARIO
LOCATION:
ORGANIZER;CN=admin:MAILTO:incidencias@chipsolutions.es
DTSTART;TZID=Etc/GMT+0:20251004T200000
DTEND;TZID=Etc/GMT+0:20251004T210000
X-ALT-DESC;FMTTYPE=TEXT/HTML:
CATEGORIES:General
URL;VALUE=URI:https://www.parroquiaolivar.com/mc-events/triduo-en-honor-a-n
 uestra-senora-del-rosario/
METHOD:PUBLISH
END:VEVENT
END:VCALENDAR