BEGIN:VCALENDAR
VERSION:2.0
PRODID:spatie/icalendar-generator
DESCRIPTION:Events from Parroquia Santo Cristo del Olivar
X-WR-CALDESC:Events from Parroquia Santo Cristo del Olivar
REFRESH-INTERVAL;VALUE=DURATION:PT1440M
X-PUBLISHED-TTL:PT1440M
BEGIN:VTIMEZONE
TZID:Etc/GMT+0
BEGIN:STANDARD
DTSTART:20240710T203000Z
TZOFFSETFROM:+0000
TZOFFSETTO:+0000
END:STANDARD
END:VTIMEZONE
BEGIN:VTIMEZONE
TZID:UTC
BEGIN:STANDARD
DTSTART:20250725T120131Z
TZOFFSETFROM:+0000
TZOFFSETTO:+0000
END:STANDARD
END:VTIMEZONE
BEGIN:VEVENT
UID:270-258
DTSTAMP:20260421T120131Z
SUMMARY:Coro Nox
LOCATION:
ORGANIZER;CN=admin:MAILTO:incidencias@chipsolutions.es
DTSTART;TZID=Etc/GMT+0:20250406T203000
DTEND;TZID=Etc/GMT+0:20250406T213000
X-ALT-DESC;FMTTYPE=TEXT/HTML:
CATEGORIES:General
URL;VALUE=URI:https://www.parroquiaolivar.com/mc-events/coro-nox/
METHOD:PUBLISH
END:VEVENT
END:VCALENDAR