BEGIN:VCALENDAR
VERSION:2.0
PRODID:spatie/icalendar-generator
DESCRIPTION:Events from Parroquia Santo Cristo del Olivar
X-WR-CALDESC:Events from Parroquia Santo Cristo del Olivar
REFRESH-INTERVAL;VALUE=DURATION:PT1440M
X-PUBLISHED-TTL:PT1440M
BEGIN:VTIMEZONE
TZID:Etc/GMT+0
BEGIN:STANDARD
DTSTART:20240808T200000Z
TZOFFSETFROM:+0000
TZOFFSETTO:+0000
END:STANDARD
END:VTIMEZONE
BEGIN:VTIMEZONE
TZID:UTC
BEGIN:STANDARD
DTSTART:20250725T163728Z
TZOFFSETFROM:+0000
TZOFFSETTO:+0000
END:STANDARD
END:VTIMEZONE
BEGIN:VEVENT
UID:277-265
DTSTAMP:20260421T163728Z
SUMMARY:Funeral Papa Francisco
LOCATION:
ORGANIZER;CN=admin:MAILTO:incidencias@chipsolutions.es
DTSTART;TZID=Etc/GMT+0:20250505T200000
DTEND;TZID=Etc/GMT+0:20250505T210000
X-ALT-DESC;FMTTYPE=TEXT/HTML:EUCARISTÍA FUNERAL POR EL PAPA FRANCISCO La c
 elebraremos el lunes\, 5 de mayo\, a las 20:00 h\, en nuestra Parroquia de
 l santo Cristo del Olivar. ¡Están invitados!
CATEGORIES:General
URL;VALUE=URI:https://www.parroquiaolivar.com/mc-events/funeral-papa-franci
 sco/
METHOD:PUBLISH
END:VEVENT
END:VCALENDAR