BEGIN:VCALENDAR
VERSION:2.0
PRODID:spatie/icalendar-generator
DESCRIPTION:Events from Parroquia Santo Cristo del Olivar
X-WR-CALDESC:Events from Parroquia Santo Cristo del Olivar
REFRESH-INTERVAL;VALUE=DURATION:PT1440M
X-PUBLISHED-TTL:PT1440M
BEGIN:VTIMEZONE
TZID:Etc/GMT+0
BEGIN:STANDARD
DTSTART:20240910T204500Z
TZOFFSETFROM:+0000
TZOFFSETTO:+0000
END:STANDARD
END:VTIMEZONE
BEGIN:VTIMEZONE
TZID:UTC
BEGIN:STANDARD
DTSTART:20250725T195258Z
TZOFFSETFROM:+0000
TZOFFSETTO:+0000
END:STANDARD
END:VTIMEZONE
BEGIN:VEVENT
UID:282-270
DTSTAMP:20260421T195258Z
SUMMARY:Concierto de guitarra
LOCATION:
ORGANIZER;CN=admin:MAILTO:incidencias@chipsolutions.es
DTSTART;TZID=Etc/GMT+0:20250607T204500
DTEND;TZID=Etc/GMT+0:20250607T214500
X-ALT-DESC;FMTTYPE=TEXT/HTML:Concierto de guitarra clásica española de B
 árbara Teti
CATEGORIES:General
URL;VALUE=URI:https://www.parroquiaolivar.com/mc-events/concierto-de-guitar
 ra/
METHOD:PUBLISH
END:VEVENT
END:VCALENDAR